BEGIN:VCALENDAR
VERSION:2.0
PRODID:-//Plone.org//NONSGML plone.app.event//EN
X-WR-TIMEZONE:Europe/Madrid
BEGIN:VEVENT
SUMMARY:Bàsquet Cadet Masculí
DTSTART;TZID=Europe/Madrid;VALUE=DATE-TIME:20120211T111500
DTEND;TZID=Europe/Madrid;VALUE=DATE-TIME:20120211T121500
DTSTAMP;VALUE=DATE-TIME:20260424T154609Z
UID:b8bba7457b8863bd4095ba21a43038df
CREATED;VALUE=DATE-TIME:20120211T000000Z
LOCATION:Pavelló Poliesportiu Municipal
ORGANIZER:Club Basquet SAFA Estrac
DESCRIPTION:Bàsquet 3 Vil·les B - Joventut Badalona E
URL:https://caldetes.cat/document.php?id=1550
END:VEVENT
END:VCALENDAR