BEGIN:VCALENDAR
VERSION:2.0
PRODID:-//Plone.org//NONSGML plone.app.event//EN
X-WR-TIMEZONE:Europe/Madrid
BEGIN:VEVENT
SUMMARY:Bàsquet Infantil Masculí
DTSTART;TZID=Europe/Madrid;VALUE=DATE-TIME:20120211T094500
DTEND;TZID=Europe/Madrid;VALUE=DATE-TIME:20120211T104500
DTSTAMP;VALUE=DATE-TIME:20260422T215626Z
UID:6ba912264ba70e1a63f802828666a39e
CREATED;VALUE=DATE-TIME:20120211T000000Z
LOCATION:Pavelló Poliesportiu Municipal
ORGANIZER:Club Basquet SAFA Estrac
DESCRIPTION:Bàsquet 3 Vil·les B - Recanvis Gaudi-CB Mollet B
URL:https://caldetes.cat/document.php?id=1551
END:VEVENT
END:VCALENDAR