BEGIN:VCALENDAR
VERSION:2.0
PRODID:-//Plone.org//NONSGML plone.app.event//EN
X-WR-TIMEZONE:Europe/Madrid
BEGIN:VEVENT
SUMMARY:Xerrada informativa i formativa, "Principals exigències sanitàries en el sector de la restauració"
DTSTART;TZID=Europe/Madrid;VALUE=DATE-TIME:20120301T190000
DTEND;TZID=Europe/Madrid;VALUE=DATE-TIME:20120301T200000
DTSTAMP;VALUE=DATE-TIME:20260423T120202Z
UID:39cdc18e5360322b160256c2bda91f99
CREATED;VALUE=DATE-TIME:20120301T000000Z
CATEGORIES:Cursos
LOCATION:Equipament de Promoció Econòmica i Cultural
ORGANIZER:regidoria de Salut de l'Ajuntament de Caldes i Agència de Protecció de la Salut de la Generalitat de Catalunya
DESCRIPTION:A càrrec de tècnics de l'Agència de Protecció de la Salut, en finalitzar el curs es lliurarà un certificat d'assistència als participants
URL:https://caldetes.cat/document.php?id=1558
END:VEVENT
END:VCALENDAR