BEGIN:VCALENDAR
VERSION:2.0
PRODID:-//Plone.org//NONSGML plone.app.event//EN
X-WR-TIMEZONE:Europe/Madrid
BEGIN:VEVENT
SUMMARY:Bàsquet Cadet Masculí
DTSTART;TZID=Europe/Madrid;VALUE=DATE-TIME:20120223T094500
DTEND;TZID=Europe/Madrid;VALUE=DATE-TIME:20120223T104500
DTSTAMP;VALUE=DATE-TIME:20260422T151806Z
UID:ba6ee17bcd4d9ec6f30ddace3db80c3f
CREATED;VALUE=DATE-TIME:20120223T000000Z
LOCATION:Pavelló Poliesportiu Municipal
ORGANIZER:Club Basquet SAFA Estrac
DESCRIPTION:Bàsquet 3 Viles B- Granollers C
URL:https://caldetes.cat/document.php?id=1559
END:VEVENT
END:VCALENDAR