BEGIN:VCALENDAR
VERSION:2.0
PRODID:-//Plone.org//NONSGML plone.app.event//EN
X-WR-TIMEZONE:Europe/Madrid
BEGIN:VEVENT
SUMMARY:Bàsquet Infantil Masculí
DTSTART;TZID=Europe/Madrid;VALUE=DATE-TIME:20120225T114500
DTEND;TZID=Europe/Madrid;VALUE=DATE-TIME:20120225T124500
DTSTAMP;VALUE=DATE-TIME:20260422T112008Z
UID:d718bdc16b728e1c35aa1c04d0115066
CREATED;VALUE=DATE-TIME:20120225T000000Z
LOCATION:Pavelló Poliesportiu Municipal
ORGANIZER:Club Basquet SAFA Estrac
DESCRIPTION:Bàsquet 3 Viles- UE Montgat-Mireia
URL:https://caldetes.cat/document.php?id=1560
END:VEVENT
END:VCALENDAR