BEGIN:VCALENDAR
VERSION:2.0
PRODID:-//Plone.org//NONSGML plone.app.event//EN
X-WR-TIMEZONE:Europe/Madrid
BEGIN:VEVENT
SUMMARY:Sortim a passejar
DTSTART;TZID=Europe/Madrid;VALUE=DATE-TIME:20120321T000000
DTEND;TZID=Europe/Madrid;VALUE=DATE-TIME:20120321T010000
DTSTAMP;VALUE=DATE-TIME:20260423T045357Z
UID:d48db86b544d82b0bdf09d2e2221c95c
CREATED;VALUE=DATE-TIME:20120321T000000Z
ORGANIZER:Àrea de Serveis Socials de l'Ajuntament de Caldes d'Estrac
URL:https://caldetes.cat/document.php?id=1563
END:VEVENT
END:VCALENDAR