BEGIN:VCALENDAR
VERSION:2.0
PRODID:-//Plone.org//NONSGML plone.app.event//EN
X-WR-TIMEZONE:Europe/Madrid
BEGIN:VEVENT
SUMMARY:Parada de productes de l'Índia
DTSTART;TZID=Europe/Madrid;VALUE=DATE-TIME:20120311T110000
DTEND;TZID=Europe/Madrid;VALUE=DATE-TIME:20120311T120000
DTSTAMP;VALUE=DATE-TIME:20260424T071212Z
UID:68fc347074511e702afd1f9fc150935d
CREATED;VALUE=DATE-TIME:20120311T000000Z
LOCATION:Esplanada Can Muntanyà
ORGANIZER:Associació "El Somriure dels Nens"
URL:https://caldetes.cat/document.php?id=1567
END:VEVENT
END:VCALENDAR