BEGIN:VCALENDAR
VERSION:2.0
PRODID:-//Plone.org//NONSGML plone.app.event//EN
X-WR-TIMEZONE:Europe/Madrid
BEGIN:VEVENT
SUMMARY:Taller intergeneracional de manualitats
DTSTART;TZID=Europe/Madrid;VALUE=DATE-TIME:20120314T180000
DTEND;TZID=Europe/Madrid;VALUE=DATE-TIME:20120314T190000
DTSTAMP;VALUE=DATE-TIME:20260422T100511Z
UID:fe2f8a7a825ea1c7a4a838a5bce38276
CREATED;VALUE=DATE-TIME:20120314T000000Z
LOCATION:Equipament de Promoció Econòmica i Cultural
ORGANIZER:Àrea de Serveis Socials de l'Ajuntament de Caldes d'Estrac
DESCRIPTION:a càrrec de Pilar de Vilar, psicologa municipal
URL:https://caldetes.cat/document.php?id=1568
END:VEVENT
END:VCALENDAR