BEGIN:VCALENDAR
VERSION:2.0
PRODID:-//Plone.org//NONSGML plone.app.event//EN
X-WR-TIMEZONE:Europe/Madrid
BEGIN:VEVENT
SUMMARY:Taller intergeneracional de manualitats
DTSTART;TZID=Europe/Madrid;VALUE=DATE-TIME:20120328T180000
DTEND;TZID=Europe/Madrid;VALUE=DATE-TIME:20120328T190000
DTSTAMP;VALUE=DATE-TIME:20260425T214506Z
UID:b646da8099c0f60e4d07ceb6aa499b1a
CREATED;VALUE=DATE-TIME:20120328T000000Z
LOCATION:Equipament de Promoció Econòmica i Cultural
ORGANIZER:Àrea de Serveis Socials de l'Ajuntament de Caldes d'Estrac
DESCRIPTION:a càrrec de Pilar de Vilar, psicologa municipal
URL:https://caldetes.cat/document.php?id=1569
END:VEVENT
END:VCALENDAR