BEGIN:VCALENDAR
VERSION:2.0
PRODID:-//Plone.org//NONSGML plone.app.event//EN
X-WR-TIMEZONE:Europe/Madrid
BEGIN:VEVENT
SUMMARY:Presentació del llibre: "El secret del meu turbant"
DTSTART;TZID=Europe/Madrid;VALUE=DATE-TIME:20120316T190000
DTEND;TZID=Europe/Madrid;VALUE=DATE-TIME:20120316T200000
DTSTAMP;VALUE=DATE-TIME:20260422T112026Z
UID:24dbefab3b5af594d525e61df11e573c
CREATED;VALUE=DATE-TIME:20120316T000000Z
LOCATION:Biblioteca Can Milans
ORGANIZER:Biblioteca Can Milans
DESCRIPTION:a càrrec de l'autora, Nadia Ghulam
URL:https://caldetes.cat/document.php?id=1570
END:VEVENT
END:VCALENDAR