BEGIN:VCALENDAR
VERSION:2.0
PRODID:-//Plone.org//NONSGML plone.app.event//EN
X-WR-TIMEZONE:Europe/Madrid
BEGIN:VEVENT
SUMMARY:Futbol Sala. Categoria Aleví mixte
DTSTART;TZID=Europe/Madrid;VALUE=DATE-TIME:20120421T133000
DTEND;TZID=Europe/Madrid;VALUE=DATE-TIME:20120421T143000
DTSTAMP;VALUE=DATE-TIME:20260422T043238Z
UID:e57b3858a2b284356e02f39c41a2ce76
CREATED;VALUE=DATE-TIME:20120421T000000Z
LOCATION:Pavelló Poliesportiu Municipal
ORGANIZER:Futbol Sala Caldes d'Estrac
DESCRIPTION:FS Caldes d'Estrac vs FS Sant Cebrià
URL:https://caldetes.cat/document.php?id=1578
END:VEVENT
END:VCALENDAR