BEGIN:VCALENDAR
VERSION:2.0
PRODID:-//Plone.org//NONSGML plone.app.event//EN
X-WR-TIMEZONE:Europe/Madrid
BEGIN:VEVENT
SUMMARY:Futbol Sala. Categoria Benjamí mixte
DTSTART;TZID=Europe/Madrid;VALUE=DATE-TIME:20120421T123000
DTEND;TZID=Europe/Madrid;VALUE=DATE-TIME:20120421T133000
DTSTAMP;VALUE=DATE-TIME:20260426T024724Z
UID:95148236ebf82ad4df2e02ebf86cf191
CREATED;VALUE=DATE-TIME:20120421T000000Z
LOCATION:Pavelló Poliesportiu Municipal
ORGANIZER:Futbol Sala Caldes d'Estrac
DESCRIPTION:FS Caldes d'Estrac vs FS Olímpic Arg. B
URL:https://caldetes.cat/document.php?id=1580
END:VEVENT
END:VCALENDAR