BEGIN:VCALENDAR
VERSION:2.0
PRODID:-//Plone.org//NONSGML plone.app.event//EN
X-WR-TIMEZONE:Europe/Madrid
BEGIN:VEVENT
SUMMARY:Futbol Sala. Categoria Benjamí mixte
DTSTART;TZID=Europe/Madrid;VALUE=DATE-TIME:20120324T123000
DTEND;TZID=Europe/Madrid;VALUE=DATE-TIME:20120324T133000
DTSTAMP;VALUE=DATE-TIME:20260424T042458Z
UID:7aec8750d085acc271cb417e78dc676d
CREATED;VALUE=DATE-TIME:20120324T000000Z
LOCATION:Pavelló Poliesportiu Municipal
ORGANIZER:Futbol Sala Caldes d'Estrac
DESCRIPTION:FS Caldes d'Estrac vs FS Vilalba S.A
URL:https://caldetes.cat/document.php?id=1585
END:VEVENT
END:VCALENDAR