BEGIN:VCALENDAR
VERSION:2.0
PRODID:-//Plone.org//NONSGML plone.app.event//EN
X-WR-TIMEZONE:Europe/Madrid
BEGIN:VEVENT
SUMMARY:Futbol Sala. Categoria Aleví mixte
DTSTART;TZID=Europe/Madrid;VALUE=DATE-TIME:20120317T133000
DTEND;TZID=Europe/Madrid;VALUE=DATE-TIME:20120317T143000
DTSTAMP;VALUE=DATE-TIME:20260423T033806Z
UID:79fa3845936df6e00a22fb5ce5e830ab
CREATED;VALUE=DATE-TIME:20120317T000000Z
LOCATION:Pavelló Poliesportiu Municipal
ORGANIZER:Futbol Sala Caldes d'Estrac
DESCRIPTION:FS Caldes d'Estrac vs La Roureda A
URL:https://caldetes.cat/document.php?id=1586
END:VEVENT
END:VCALENDAR