BEGIN:VCALENDAR
VERSION:2.0
PRODID:-//Plone.org//NONSGML plone.app.event//EN
X-WR-TIMEZONE:Europe/Madrid
BEGIN:VEVENT
SUMMARY:Futbol Sala. 1r equip
DTSTART;TZID=Europe/Madrid;VALUE=DATE-TIME:20120303T180000
DTEND;TZID=Europe/Madrid;VALUE=DATE-TIME:20120303T190000
DTSTAMP;VALUE=DATE-TIME:20260423T204852Z
UID:1ad140cfd350c8e44f786191f7bbb875
CREATED;VALUE=DATE-TIME:20120303T000000Z
LOCATION:Pavelló Poliesportiu Municipal
ORGANIZER:Futbol Sala Caldes d'Estrac
DESCRIPTION:Sal Marina Caldes d'Estrac Futbol Sala "A" vs Rubí C.E.F.S. "A"
URL:https://caldetes.cat/document.php?id=1587
END:VEVENT
END:VCALENDAR