BEGIN:VCALENDAR
VERSION:2.0
PRODID:-//Plone.org//NONSGML plone.app.event//EN
X-WR-TIMEZONE:Europe/Madrid
BEGIN:VEVENT
SUMMARY:Futbol Sala. 1r equip
DTSTART;TZID=Europe/Madrid;VALUE=DATE-TIME:20120317T180000
DTEND;TZID=Europe/Madrid;VALUE=DATE-TIME:20120317T190000
DTSTAMP;VALUE=DATE-TIME:20260425T003354Z
UID:355c48857312a6fb578aa290a73c3935
CREATED;VALUE=DATE-TIME:20120317T000000Z
LOCATION:Pavelló Poliesportiu Municipal
ORGANIZER:Futbol Sala Caldes d'Estrac
DESCRIPTION:Sal Marina Caldes d'Estrac Futbol Sala "A" vs CFS La Union "B"
URL:https://caldetes.cat/document.php?id=1588
END:VEVENT
END:VCALENDAR