BEGIN:VCALENDAR
VERSION:2.0
PRODID:-//Plone.org//NONSGML plone.app.event//EN
X-WR-TIMEZONE:Europe/Madrid
BEGIN:VEVENT
SUMMARY:Inauguració exposició "Joan Rebull.Dibuixos, pintures i gravats"
DTSTART;TZID=Europe/Madrid;VALUE=DATE-TIME:20120325T123000
DTEND;TZID=Europe/Madrid;VALUE=DATE-TIME:20120325T133000
DTSTAMP;VALUE=DATE-TIME:20260421T161246Z
UID:a8f73b04bc3b37dc5e323228b25e1aed
CREATED;VALUE=DATE-TIME:20120325T000000Z
CATEGORIES:Exposició
ORGANIZER:Fundació Palau
COMMENT:Preu: Gratuït
Durada: Del 25 de març al 02 de setembre de 2012
URL:https://caldetes.cat/document.php?id=1614
END:VEVENT
END:VCALENDAR