BEGIN:VCALENDAR
VERSION:2.0
PRODID:-//Plone.org//NONSGML plone.app.event//EN
X-WR-TIMEZONE:Europe/Madrid
BEGIN:VEVENT
SUMMARY:Sortida dels gegants a La Llagosta
DTSTART;TZID=Europe/Madrid;VALUE=DATE-TIME:20120325T235900
DTEND;TZID=Europe/Madrid;VALUE=DATE-TIME:20120326T005900
DTSTAMP;VALUE=DATE-TIME:20260424T071346Z
UID:94d951c73cb19f52537987f7f11398fe
CREATED;VALUE=DATE-TIME:20120325T000000Z
LOCATION:La Llagsota
ORGANIZER:Colla de Geganters i Grallers de Caldes d'Estrac
URL:https://caldetes.cat/document.php?id=1621
END:VEVENT
END:VCALENDAR