BEGIN:VCALENDAR
VERSION:2.0
PRODID:-//Plone.org//NONSGML plone.app.event//EN
X-WR-TIMEZONE:Europe/Madrid
BEGIN:VEVENT
SUMMARY:Basquet Infantil Masculí
DTSTART;TZID=Europe/Madrid;VALUE=DATE-TIME:20120324T094500
DTEND;TZID=Europe/Madrid;VALUE=DATE-TIME:20120324T104500
DTSTAMP;VALUE=DATE-TIME:20260425T231509Z
UID:3075d0923745dbe12f9c7e252fc343a9
CREATED;VALUE=DATE-TIME:20120324T000000Z
LOCATION:Pavelló Poliesportiu Municipal
ORGANIZER:Club de Basquet Safa Estrac
DESCRIPTION:Bàsquet 3 Viles - C.B.Manlleu
URL:https://caldetes.cat/document.php?id=1625
END:VEVENT
END:VCALENDAR