BEGIN:VCALENDAR
VERSION:2.0
PRODID:-//Plone.org//NONSGML plone.app.event//EN
X-WR-TIMEZONE:Europe/Madrid
BEGIN:VEVENT
SUMMARY:Jornada de portes obertes a l'Escola Bressol Municipal
DTSTART;TZID=Europe/Madrid;VALUE=DATE-TIME:20120412T180000
DTEND;TZID=Europe/Madrid;VALUE=DATE-TIME:20120412T190000
DTSTAMP;VALUE=DATE-TIME:20260422T030844Z
UID:5938bde348f6c1c3630d69c0136a7241
CREATED;VALUE=DATE-TIME:20120412T000000Z
ORGANIZER:Ajuntament de Caldes d'Estrac
URL:https://caldetes.cat/document.php?id=1641
END:VEVENT
END:VCALENDAR