BEGIN:VCALENDAR
VERSION:2.0
PRODID:-//Plone.org//NONSGML plone.app.event//EN
X-WR-TIMEZONE:Europe/Madrid
BEGIN:VEVENT
SUMMARY:Lliurament dels premis de la fase local de la XXIX Mostra Literària del Maresme
DTSTART;TZID=Europe/Madrid;VALUE=DATE-TIME:20120526T180000
DTEND;TZID=Europe/Madrid;VALUE=DATE-TIME:20120526T190000
DTSTAMP;VALUE=DATE-TIME:20260425T173604Z
UID:fc6b80e59cff9a629eca96a86a051607
CREATED;VALUE=DATE-TIME:20120526T000000Z
CATEGORIES:Literatura
LOCATION:Sala Cultural
ORGANIZER:Ajuntament de Caldes d'Estrac
URL:https://caldetes.cat/document.php?id=1642
END:VEVENT
END:VCALENDAR