BEGIN:VCALENDAR
VERSION:2.0
PRODID:-//Plone.org//NONSGML plone.app.event//EN
X-WR-TIMEZONE:Europe/Madrid
BEGIN:VEVENT
SUMMARY:Escola de Sardanes
DTSTART;TZID=Europe/Madrid;VALUE=DATE-TIME:20120429T113000
DTEND;TZID=Europe/Madrid;VALUE=DATE-TIME:20120429T123000
DTSTAMP;VALUE=DATE-TIME:20260422T100227Z
UID:144f861483a407267ff417977204cbb0
CREATED;VALUE=DATE-TIME:20120429T000000Z
LOCATION:Esplanada Can Muntanyà
ORGANIZER:Agrupació de Pensionistes i Tercera Edat de Caldes d'estrac
COMMENT:Preu: Gratuít
Durada: Fins les 13:00
URL:https://caldetes.cat/document.php?id=1650
END:VEVENT
END:VCALENDAR