BEGIN:VCALENDAR
VERSION:2.0
PRODID:-//Plone.org//NONSGML plone.app.event//EN
X-WR-TIMEZONE:Europe/Madrid
BEGIN:VEVENT
SUMMARY:Ball Popular
DTSTART;TZID=Europe/Madrid;VALUE=DATE-TIME:20120428T190000
DTEND;TZID=Europe/Madrid;VALUE=DATE-TIME:20120428T200000
DTSTAMP;VALUE=DATE-TIME:20260422T011313Z
UID:dc70c0de6c0be5c5a506f435e8dc3594
CREATED;VALUE=DATE-TIME:20120428T000000Z
LOCATION:Sala Cultural
ORGANIZER:Agrupació de Pensionistes i Tercera Edat de Caldes d'Estrac
URL:https://caldetes.cat/document.php?id=1651
END:VEVENT
END:VCALENDAR