BEGIN:VCALENDAR
VERSION:2.0
PRODID:-//Plone.org//NONSGML plone.app.event//EN
X-WR-TIMEZONE:Europe/Madrid
BEGIN:VEVENT
SUMMARY:Escola de Sardanes
DTSTART;TZID=Europe/Madrid;VALUE=DATE-TIME:20120513T113000
DTEND;TZID=Europe/Madrid;VALUE=DATE-TIME:20120513T123000
DTSTAMP;VALUE=DATE-TIME:20260425T132256Z
UID:62d570e75344d7864681396074792478
CREATED;VALUE=DATE-TIME:20120513T000000Z
LOCATION:Esplanada Can Muntanyà
ORGANIZER:Agrupació de Pensionistes i Tercera Edat de Caldes d'estrac
COMMENT:Preu: Gratuít
Durada: Fins les 13:00
URL:https://caldetes.cat/document.php?id=1654
END:VEVENT
END:VCALENDAR