BEGIN:VCALENDAR
VERSION:2.0
PRODID:-//Plone.org//NONSGML plone.app.event//EN
X-WR-TIMEZONE:Europe/Madrid
BEGIN:VEVENT
SUMMARY:1ª fase Interclubs de Patinatge Artístic
DTSTART;TZID=Europe/Madrid;VALUE=DATE-TIME:20120512T235900
DTEND;TZID=Europe/Madrid;VALUE=DATE-TIME:20120513T005900
DTSTAMP;VALUE=DATE-TIME:20260425T051337Z
UID:7aaadf9065b1f0bcce1cb4ce336d313d
CREATED;VALUE=DATE-TIME:20120512T000000Z
CATEGORIES:Esports
LOCATION:Pavelló de Tiana
URL:https://caldetes.cat/document.php?id=1686
END:VEVENT
END:VCALENDAR