BEGIN:VCALENDAR
VERSION:2.0
PRODID:-//Plone.org//NONSGML plone.app.event//EN
X-WR-TIMEZONE:Europe/Madrid
BEGIN:VEVENT
SUMMARY:Concert de Mozart a Beatles passant per Caldes d'Estrac
DTSTART;TZID=Europe/Madrid;VALUE=DATE-TIME:20120810T220000
DTEND;TZID=Europe/Madrid;VALUE=DATE-TIME:20120810T230000
DTSTAMP;VALUE=DATE-TIME:20260426T000131Z
UID:5afd56ef4f0aa61397e45a19d196f082
CREATED;VALUE=DATE-TIME:20120810T000000Z
CATEGORIES:Música
LOCATION:Pèrgola Can Muntanyà
ORGANIZER:Ajuntament de Caldes d'Estrac
COMMENT:Preu: 10&euro;
DESCRIPTION:A càrrec de l'Orquestra de Cambra de l'Empordà (OCE), dirigida per Carles Coll
URL:https://caldetes.cat/document.php?id=1771
END:VEVENT
END:VCALENDAR