BEGIN:VCALENDAR
VERSION:2.0
PRODID:-//Plone.org//NONSGML plone.app.event//EN
X-WR-TIMEZONE:Europe/Madrid
BEGIN:VEVENT
SUMMARY:Taller Entrenament de la Memòria
DTSTART;TZID=Europe/Madrid;VALUE=DATE-TIME:20121009T103000
DTEND;TZID=Europe/Madrid;VALUE=DATE-TIME:20121009T113000
DTSTAMP;VALUE=DATE-TIME:20260425T003024Z
UID:03ed472f095f5b65a14e5b78231a6136
CREATED;VALUE=DATE-TIME:20121009T000000Z
CATEGORIES:Cursos
LOCATION:Casal dels Avis
ORGANIZER:Serveis Socials amb la col·laboració Diputació de Barcelona i el Casal dels Avis
COMMENT:Preu: Gratuit
URL:https://caldetes.cat/document.php?id=1783
END:VEVENT
END:VCALENDAR