BEGIN:VCALENDAR
VERSION:2.0
PRODID:-//Plone.org//NONSGML plone.app.event//EN
X-WR-TIMEZONE:Europe/Madrid
BEGIN:VEVENT
SUMMARY:Campionat d'Espanya Infantil 2012
DTSTART;TZID=Europe/Madrid;VALUE=DATE-TIME:20121019T000000
DTEND;TZID=Europe/Madrid;VALUE=DATE-TIME:20121019T010000
DTSTAMP;VALUE=DATE-TIME:20260425T021712Z
UID:819ef05762d544b719665701ef2a6fc7
CREATED;VALUE=DATE-TIME:20121019T000000Z
CATEGORIES:Esports
LOCATION:Pavelló municipal Gurutzeta Patín Taldea, Bilbao
ORGANIZER:Club Patinatge Artístic Caldes d'Estrac
COMMENT:Durada: 21 d'octubre de 2012
URL:https://caldetes.cat/document.php?id=1784
END:VEVENT
END:VCALENDAR