BEGIN:VCALENDAR
VERSION:2.0
PRODID:-//Plone.org//NONSGML plone.app.event//EN
X-WR-TIMEZONE:Europe/Madrid
BEGIN:VEVENT
SUMMARY:Taller Entrenament de la Memòria
DTSTART;TZID=Europe/Madrid;VALUE=DATE-TIME:20121106T103000
DTEND;TZID=Europe/Madrid;VALUE=DATE-TIME:20121106T113000
DTSTAMP;VALUE=DATE-TIME:20260426T050331Z
UID:5684572a200e25c6ad3b8c237ffcd06f
CREATED;VALUE=DATE-TIME:20121106T000000Z
CATEGORIES:Cursos
LOCATION:Casal dels Avis
ORGANIZER:Serveis Socials amb la col·laboració Diputació de Barcelona i el Casal dels Avis
COMMENT:Preu: Gratuit
URL:https://caldetes.cat/document.php?id=1795
END:VEVENT
END:VCALENDAR