BEGIN:VCALENDAR
VERSION:2.0
PRODID:-//Plone.org//NONSGML plone.app.event//EN
X-WR-TIMEZONE:Europe/Madrid
BEGIN:VEVENT
SUMMARY:Taller Entrenament de la Memòria
DTSTART;TZID=Europe/Madrid;VALUE=DATE-TIME:20121113T103000
DTEND;TZID=Europe/Madrid;VALUE=DATE-TIME:20121113T113000
DTSTAMP;VALUE=DATE-TIME:20260425T164523Z
UID:113c3ca105aa3c5a8690046627ef2453
CREATED;VALUE=DATE-TIME:20121113T000000Z
CATEGORIES:Cursos
LOCATION:Casal dels Avis
ORGANIZER:Serveis Socials amb la col·laboració Diputació de Barcelona i el Casal dels Avis
COMMENT:Preu: Gratuit
URL:https://caldetes.cat/document.php?id=1796
END:VEVENT
END:VCALENDAR