BEGIN:VCALENDAR
VERSION:2.0
PRODID:-//Plone.org//NONSGML plone.app.event//EN
X-WR-TIMEZONE:Europe/Madrid
BEGIN:VEVENT
SUMMARY:Taller Entrenament de la Memòria
DTSTART;TZID=Europe/Madrid;VALUE=DATE-TIME:20121127T103000
DTEND;TZID=Europe/Madrid;VALUE=DATE-TIME:20121127T113000
DTSTAMP;VALUE=DATE-TIME:20260425T002534Z
UID:b3e9af9eeb298ec9bf72f52c427171a1
CREATED;VALUE=DATE-TIME:20121127T000000Z
CATEGORIES:Cursos
LOCATION:Casal dels Avis
ORGANIZER:Serveis Socials amb la col·laboració Diputació de Barcelona i el Casal dels Avis
COMMENT:Preu: Gratuit
URL:https://caldetes.cat/document.php?id=1798
END:VEVENT
END:VCALENDAR