BEGIN:VCALENDAR
VERSION:2.0
PRODID:-//Plone.org//NONSGML plone.app.event//EN
X-WR-TIMEZONE:Europe/Madrid
BEGIN:VEVENT
SUMMARY:Taller Entrenament de la Memòria
DTSTART;TZID=Europe/Madrid;VALUE=DATE-TIME:20121204T103000
DTEND;TZID=Europe/Madrid;VALUE=DATE-TIME:20121204T113000
DTSTAMP;VALUE=DATE-TIME:20260423T061930Z
UID:92ca09ad5b860d9021fa5c2ec16374e5
CREATED;VALUE=DATE-TIME:20121204T000000Z
CATEGORIES:Cursos
LOCATION:Casal dels Avis
ORGANIZER:Serveis Socials amb la col·laboració Diputació de Barcelona i el Casal dels Avis
COMMENT:Preu: Gratuit
URL:https://caldetes.cat/document.php?id=1799
END:VEVENT
END:VCALENDAR