BEGIN:VCALENDAR
VERSION:2.0
PRODID:-//Plone.org//NONSGML plone.app.event//EN
X-WR-TIMEZONE:Europe/Madrid
BEGIN:VEVENT
SUMMARY:Taller Entrenament de la Memòria
DTSTART;TZID=Europe/Madrid;VALUE=DATE-TIME:20121211T103000
DTEND;TZID=Europe/Madrid;VALUE=DATE-TIME:20121211T113000
DTSTAMP;VALUE=DATE-TIME:20260424T213930Z
UID:854a142e1d1535b562bc2c3be218872d
CREATED;VALUE=DATE-TIME:20121211T000000Z
CATEGORIES:Cursos
LOCATION:Casal dels Avis
ORGANIZER:Serveis Socials amb la col·laboració Diputació de Barcelona i el Casal dels Avis
COMMENT:Preu: Gratuit
URL:https://caldetes.cat/document.php?id=1800
END:VEVENT
END:VCALENDAR