BEGIN:VCALENDAR
VERSION:2.0
PRODID:-//Plone.org//NONSGML plone.app.event//EN
X-WR-TIMEZONE:Europe/Madrid
BEGIN:VEVENT
SUMMARY:Fira d'Artesania, Pintura i Alimentació
DTSTART;TZID=Europe/Madrid;VALUE=DATE-TIME:20120815T000000
DTEND;TZID=Europe/Madrid;VALUE=DATE-TIME:20120815T010000
DTSTAMP;VALUE=DATE-TIME:20260425T164412Z
UID:a91e95469d5c69ce283828280fc6b2ed
CREATED;VALUE=DATE-TIME:20120815T000000Z
LOCATION:Parc Joan Maragall
ORGANIZER:Arrels Cultura
COMMENT:Durada: Tot el dia
URL:https://caldetes.cat/document.php?id=1802
END:VEVENT
END:VCALENDAR