BEGIN:VCALENDAR
VERSION:2.0
PRODID:-//Plone.org//NONSGML plone.app.event//EN
X-WR-TIMEZONE:Europe/Madrid
BEGIN:VEVENT
SUMMARY:Festa Major 2012. Brindis de Festa Major
DTSTART;TZID=Europe/Madrid;VALUE=DATE-TIME:20120907T203000
DTEND;TZID=Europe/Madrid;VALUE=DATE-TIME:20120907T213000
DTSTAMP;VALUE=DATE-TIME:20260425T202611Z
UID:e4f039e26ce401d7fda94e8eb0094e4f
CREATED;VALUE=DATE-TIME:20120907T000000Z
LOCATION:Camí Nou
ORGANIZER:Veïns del Camí Nou i Arrels Cultura amb la col·laboració de la Colla de Geganters i Grallers de Caldes d'Estrac.
DESCRIPTION:Es podran adquirir copes commemoratives. Tot seguit, Sopar Popular i DJ
URL:https://caldetes.cat/document.php?id=1811
END:VEVENT
END:VCALENDAR