BEGIN:VCALENDAR
VERSION:2.0
PRODID:-//Plone.org//NONSGML plone.app.event//EN
X-WR-TIMEZONE:Europe/Madrid
BEGIN:VEVENT
SUMMARY:Festa Major 2012. Repicada general de campanes en Honor a la Mare de Déu del Remei
DTSTART;TZID=Europe/Madrid;VALUE=DATE-TIME:20120908T100000
DTEND;TZID=Europe/Madrid;VALUE=DATE-TIME:20120908T110000
DTSTAMP;VALUE=DATE-TIME:20260425T033721Z
UID:9ba49836a1a7bc2a1ac895cf5a3ea54b
CREATED;VALUE=DATE-TIME:20120908T000000Z
LOCATION:Parròquia Santa Maria
ORGANIZER:Parròquia de Santa Maria
URL:https://caldetes.cat/document.php?id=1813
END:VEVENT
END:VCALENDAR