BEGIN:VCALENDAR
VERSION:2.0
PRODID:-//Plone.org//NONSGML plone.app.event//EN
X-WR-TIMEZONE:Europe/Madrid
BEGIN:VEVENT
SUMMARY:Festa Major 2012. Concert de Joan Colomo
DTSTART;TZID=Europe/Madrid;VALUE=DATE-TIME:20120908T220000
DTEND;TZID=Europe/Madrid;VALUE=DATE-TIME:20120908T230000
DTSTAMP;VALUE=DATE-TIME:20260425T132241Z
UID:1b9e7feb68998f7a89d89fdf8e0751ef
CREATED;VALUE=DATE-TIME:20120908T000000Z
CATEGORIES:Música
LOCATION:Pèrgola Can Muntanyà
ORGANIZER:Fundació Palau
URL:https://caldetes.cat/document.php?id=1826
END:VEVENT
END:VCALENDAR