BEGIN:VCALENDAR
VERSION:2.0
PRODID:-//Plone.org//NONSGML plone.app.event//EN
X-WR-TIMEZONE:Europe/Madrid
BEGIN:VEVENT
SUMMARY:Taller de DJ's
DTSTART;TZID=Europe/Madrid;VALUE=DATE-TIME:20121116T173000
DTEND;TZID=Europe/Madrid;VALUE=DATE-TIME:20121116T183000
DTSTAMP;VALUE=DATE-TIME:20260425T230740Z
UID:3f429e3fd508b7bcfd28eab6ecda5a02
CREATED;VALUE=DATE-TIME:20121116T000000Z
CATEGORIES:Cursos
LOCATION:Espai Jove
ORGANIZER:Àrea de Joventut (Ajuntament de Caldes d'Estrac)
URL:https://caldetes.cat/document.php?id=1871
END:VEVENT
END:VCALENDAR