BEGIN:VCALENDAR
VERSION:2.0
PRODID:-//Plone.org//NONSGML plone.app.event//EN
X-WR-TIMEZONE:Europe/Madrid
BEGIN:VEVENT
SUMMARY:Taller de DJ's
DTSTART;TZID=Europe/Madrid;VALUE=DATE-TIME:20121123T173000
DTEND;TZID=Europe/Madrid;VALUE=DATE-TIME:20121123T183000
DTSTAMP;VALUE=DATE-TIME:20260422T181551Z
UID:67507aa888dbe9078a6d2360e0ca1ac6
CREATED;VALUE=DATE-TIME:20121123T000000Z
CATEGORIES:Cursos
LOCATION:Espai Jove
ORGANIZER:Àrea de Joventut (Ajuntament de Caldes d'Estrac)
URL:https://caldetes.cat/document.php?id=1873
END:VEVENT
END:VCALENDAR