BEGIN:VCALENDAR
VERSION:2.0
PRODID:-//Plone.org//NONSGML plone.app.event//EN
X-WR-TIMEZONE:Europe/Madrid
BEGIN:VEVENT
SUMMARY:Taller de DJ's
DTSTART;TZID=Europe/Madrid;VALUE=DATE-TIME:20121130T173000
DTEND;TZID=Europe/Madrid;VALUE=DATE-TIME:20121130T183000
DTSTAMP;VALUE=DATE-TIME:20260422T230751Z
UID:491cc867dae3b3618dc6d68d88f07259
CREATED;VALUE=DATE-TIME:20121130T000000Z
CATEGORIES:Cursos
LOCATION:Espai Jove
ORGANIZER:Àrea de Joventut (Ajuntament de Caldes d'Estrac)
URL:https://caldetes.cat/document.php?id=1874
END:VEVENT
END:VCALENDAR