BEGIN:VCALENDAR
VERSION:2.0
PRODID:-//Plone.org//NONSGML plone.app.event//EN
X-WR-TIMEZONE:Europe/Madrid
BEGIN:VEVENT
SUMMARY:L'ocupabilitat per competències
DTSTART;TZID=Europe/Madrid;VALUE=DATE-TIME:20121031T000000
DTEND;TZID=Europe/Madrid;VALUE=DATE-TIME:20121031T010000
DTSTAMP;VALUE=DATE-TIME:20260425T131947Z
UID:09cd2d9b50ce8930765adacba43aa316
CREATED;VALUE=DATE-TIME:20121031T000000Z
CATEGORIES:Cursos
LOCATION:L'Equipament (La Fabriqueta)
ORGANIZER:Servei Local d'Ocupació (SLO) de l'Ajuntament de Caldes d'Estrac
DESCRIPTION:Taller del Servei Local d'Ocupació
URL:https://caldetes.cat/document.php?id=1891
END:VEVENT
END:VCALENDAR