BEGIN:VCALENDAR
VERSION:2.0
PRODID:-//Plone.org//NONSGML plone.app.event//EN
X-WR-TIMEZONE:Europe/Madrid
BEGIN:VEVENT
SUMMARY:L'ocupabilitat per competències
DTSTART;TZID=Europe/Madrid;VALUE=DATE-TIME:20121116T000000
DTEND;TZID=Europe/Madrid;VALUE=DATE-TIME:20121116T010000
DTSTAMP;VALUE=DATE-TIME:20260423T175148Z
UID:cfeb28037c9dc374d204733ed58fdb1d
CREATED;VALUE=DATE-TIME:20121116T000000Z
CATEGORIES:Cursos
LOCATION:L'Equipament (La Fabriqueta)
ORGANIZER:Servei Local d'Ocupació (SLO) de l'Ajuntament de Caldes d'Estrac
DESCRIPTION:Taller del Servei Local d'Ocupació
URL:https://caldetes.cat/document.php?id=1892
END:VEVENT
END:VCALENDAR