BEGIN:VCALENDAR
VERSION:2.0
PRODID:-//Plone.org//NONSGML plone.app.event//EN
X-WR-TIMEZONE:Europe/Madrid
BEGIN:VEVENT
SUMMARY:Xerrada "Productes financers d'alt risc per a persones consumidores" (inclou Participacions Preferents i altres productes tòxics)
DTSTART;TZID=Europe/Madrid;VALUE=DATE-TIME:20121109T180000
DTEND;TZID=Europe/Madrid;VALUE=DATE-TIME:20121109T190000
DTSTAMP;VALUE=DATE-TIME:20260422T230822Z
UID:749bffa30a802d178faf19dac8ab5a38
CREATED;VALUE=DATE-TIME:20121109T000000Z
CATEGORIES:Conferència
LOCATION:L'Equipament (La Fabriqueta)
ORGANIZER:Ajuntament de Caldes d'Estrac, amb la col·laboració de la Diputació de Barcelona
DESCRIPTION:A càrrec d'un tècnic de l'Associació d'usuaris de Bancs, Caixes i Assegurances (AICEC-ADICAE)
URL:https://caldetes.cat/document.php?id=1895
END:VEVENT
END:VCALENDAR