BEGIN:VCALENDAR
VERSION:2.0
PRODID:-//Plone.org//NONSGML plone.app.event//EN
X-WR-TIMEZONE:Europe/Madrid
BEGIN:VEVENT
SUMMARY:Fira de Nadal, Artesania i Alimentació
DTSTART;TZID=Europe/Madrid;VALUE=DATE-TIME:20121222T000000
DTEND;TZID=Europe/Madrid;VALUE=DATE-TIME:20121222T010000
DTSTAMP;VALUE=DATE-TIME:20260424T001113Z
UID:5e69fc427d450fee630675619af41aa3
CREATED;VALUE=DATE-TIME:20121222T000000Z
LOCATION:Parc Joan Maragall
ORGANIZER:Ajuntament de Caldes d'Estrac
COMMENT:Durada: Tot el dia
DESCRIPTION:Dissabte 22 i diumenge 23, durant tot el dia
URL:https://caldetes.cat/document.php?id=1922
END:VEVENT
END:VCALENDAR