BEGIN:VCALENDAR
VERSION:2.0
PRODID:-//Plone.org//NONSGML plone.app.event//EN
X-WR-TIMEZONE:Europe/Madrid
BEGIN:VEVENT
SUMMARY:Fira de Nadal, artesania i alimentació
DTSTART;TZID=Europe/Madrid;VALUE=DATE-TIME:20121223T100000
DTEND;TZID=Europe/Madrid;VALUE=DATE-TIME:20121223T110000
DTSTAMP;VALUE=DATE-TIME:20260424T154524Z
UID:22cfde599c9b3f4873b35acc8a5f56b0
CREATED;VALUE=DATE-TIME:20121223T000000Z
LOCATION:Parc Joan Maragall
ORGANIZER:Ajuntament de Caldes d'Estrac
COMMENT:Durada: Tot el dia
URL:https://caldetes.cat/document.php?id=1923
END:VEVENT
END:VCALENDAR