BEGIN:VCALENDAR
VERSION:2.0
PRODID:-//Plone.org//NONSGML plone.app.event//EN
X-WR-TIMEZONE:Europe/Madrid
BEGIN:VEVENT
SUMMARY:Caga Tió
DTSTART;TZID=Europe/Madrid;VALUE=DATE-TIME:20121223T170000
DTEND;TZID=Europe/Madrid;VALUE=DATE-TIME:20121223T180000
DTSTAMP;VALUE=DATE-TIME:20260420T093033Z
UID:5e7fc1a8328d587b8abe8eba3dd2a7de
CREATED;VALUE=DATE-TIME:20121223T000000Z
LOCATION:Plaça de la Vila
ORGANIZER:Comissió de Festes de Nadal
COMMENT:Durada: De 5 a 7 h de la tarda
DESCRIPTION:A la Plaça de la Vila
URL:https://caldetes.cat/document.php?id=1924
END:VEVENT
END:VCALENDAR