BEGIN:VCALENDAR
VERSION:2.0
PRODID:-//Plone.org//NONSGML plone.app.event//EN
X-WR-TIMEZONE:Europe/Madrid
BEGIN:VEVENT
SUMMARY:Concert de Nadal, amb el Cor l'Aixa i Brindis de Nadal
DTSTART;TZID=Europe/Madrid;VALUE=DATE-TIME:20121223T190000
DTEND;TZID=Europe/Madrid;VALUE=DATE-TIME:20121223T200000
DTSTAMP;VALUE=DATE-TIME:20260425T235831Z
UID:7c8487648753e2ed1cf0f3da148cf0e3
CREATED;VALUE=DATE-TIME:20121223T000000Z
CATEGORIES:Música
LOCATION:Parròquia Santa Maria
ORGANIZER:Arrels Cultura, Parròquia Santa Maria i Agrupació de Pensionistes i Tercera Edat amb la col·laboració de l'Ajuntament de Caldes d'Estrac
DESCRIPTION:La recaptació de l'acte es destinarà a La Marató de TV3
URL:https://caldetes.cat/document.php?id=1925
END:VEVENT
END:VCALENDAR