BEGIN:VCALENDAR
VERSION:2.0
PRODID:-//Plone.org//NONSGML plone.app.event//EN
X-WR-TIMEZONE:Europe/Madrid
BEGIN:VEVENT
SUMMARY:Cavalcada de Ses Majestats els Reis d'Orient
DTSTART;TZID=Europe/Madrid;VALUE=DATE-TIME:20130105T170000
DTEND;TZID=Europe/Madrid;VALUE=DATE-TIME:20130105T180000
DTSTAMP;VALUE=DATE-TIME:20260423T192404Z
UID:f4ec8960b747b30f7c4b1f8a51c13c5a
CREATED;VALUE=DATE-TIME:20130105T000000Z
ORGANIZER:Comissió de Festes de Nadal
DESCRIPTION:SS MM arriben a les 6 h de la tarda a Caldes d'Estrac
URL:https://caldetes.cat/document.php?id=1926
END:VEVENT
END:VCALENDAR