BEGIN:VCALENDAR
VERSION:2.0
PRODID:-//Plone.org//NONSGML plone.app.event//EN
X-WR-TIMEZONE:Europe/Madrid
BEGIN:VEVENT
SUMMARY:Santa Llúcia 2012. Torneig social de Festa Major d'Hivern. Tirada del Pernil
DTSTART;TZID=Europe/Madrid;VALUE=DATE-TIME:20121206T100000
DTEND;TZID=Europe/Madrid;VALUE=DATE-TIME:20121206T110000
DTSTAMP;VALUE=DATE-TIME:20260424T203239Z
UID:0d2a85ff9721abc7dc438fca48f9ded8
CREATED;VALUE=DATE-TIME:20121206T000000Z
CATEGORIES:Esports
LOCATION:Pistes Municipals de Petanca
ORGANIZER:Club de Petanca de Caldes d'Estrac
URL:https://caldetes.cat/document.php?id=1927
END:VEVENT
END:VCALENDAR