BEGIN:VCALENDAR
VERSION:2.0
PRODID:-//Plone.org//NONSGML plone.app.event//EN
X-WR-TIMEZONE:Europe/Madrid
BEGIN:VEVENT
SUMMARY:Santa Llúcia 2012. Missa Solemne en honor a Santa Llúcia
DTSTART;TZID=Europe/Madrid;VALUE=DATE-TIME:20121213T200000
DTEND;TZID=Europe/Madrid;VALUE=DATE-TIME:20121213T210000
DTSTAMP;VALUE=DATE-TIME:20260423T090414Z
UID:6db5312f810e1e1e0b2488ab352540d6
CREATED;VALUE=DATE-TIME:20121213T000000Z
LOCATION:Parròquia Santa Maria
ORGANIZER:Parròquia de Santa Maria
URL:https://caldetes.cat/document.php?id=1928
END:VEVENT
END:VCALENDAR